BEGIN:VCALENDAR
VERSION:2.0
PRODID:-//ChamberMaster//Event Calendar 2.0//EN
METHOD:PUBLISH
X-PUBLISHED-TTL:P3D
REFRESH-INTERVAL:P3D
CALSCALE:GREGORIAN
BEGIN:VEVENT
DTSTART:20100825T150000Z
DTEND:20100825T040000Z
X-MICROSOFT-CDO-ALLDAYEVENT:FALSE
SUMMARY:Barrow Young Professionals
DESCRIPTION:Barrow Young Pros meeting at the Chamber building.   \n\n\n\nLunch will be provided.\n\n\n\n$5.00
X-ALT-DESC;FMTTYPE=text/html:Barrow Young Pros meeting at the Chamber building.   \n<br>\n<br>Lunch will be provided.\n<br>\n<br>$5.00
LOCATION:Barrow County Chamber Building
UID:e.363.3574
SEQUENCE:3
DTSTAMP:20260425T001051Z
URL:https://barrowcm.365dtm.com/events/details/barrow-young-professionals-08-25-2010-3574
END:VEVENT

END:VCALENDAR
