BEGIN:VCALENDAR
VERSION:2.0
PRODID:-//ChamberMaster//Event Calendar 2.0//EN
METHOD:PUBLISH
X-PUBLISHED-TTL:P3D
REFRESH-INTERVAL:P3D
CALSCALE:GREGORIAN
BEGIN:VEVENT
DTSTART;VALUE=DATE:20110802
DTEND;VALUE=DATE:20110803
TRANSP:TRANSPARENT
X-MICROSOFT-CDO-ALLDAYEVENT:TRUE
SUMMARY:Barrow Young Professionals Luau!
DESCRIPTION:Barrow Young Professionals\n\nEnd of Summer Luau!\n\nJoin us for complementary food and drinks\n\nMeet socialize\, and play CORNHOLE
X-ALT-DESC;FMTTYPE=text/html:Barrow Young Professionals<br />\nEnd of Summer Luau!<br />\nJoin us for complementary food and drinks<br />\nMeet socialize\, and play CORNHOLE
LOCATION:Chamber Office
UID:e.363.4061
SEQUENCE:3
DTSTAMP:20260424T064651Z
URL:https://barrowcm.365dtm.com/events/details/barrow-young-professionals-luau-08-02-2011-4061
END:VEVENT

END:VCALENDAR
