BEGIN:VCALENDAR
VERSION:2.0
PRODID:-//ChamberMaster//Event Calendar 2.0//EN
METHOD:PUBLISH
X-PUBLISHED-TTL:P3D
REFRESH-INTERVAL:P3D
CALSCALE:GREGORIAN
BEGIN:VEVENT
DTSTART:20090428T213000Z
DTEND:20090428T230000Z
X-MICROSOFT-CDO-ALLDAYEVENT:FALSE
SUMMARY:Barrow Young Professionals Networking Social
DESCRIPTION:Barrow Young Professional Networking Social
X-ALT-DESC;FMTTYPE=text/html:<div>Barrow Young Professional Networking Social</div>
LOCATION:Dakota's in Auburn
UID:e.363.2704
SEQUENCE:3
DTSTAMP:20260426T011730Z
URL:https://barrowcm.365dtm.com/events/details/barrow-young-professionals-networking-social-04-28-2009-2704
END:VEVENT

END:VCALENDAR
