BEGIN:VCALENDAR
VERSION:2.0
PRODID:-//ChamberMaster//Event Calendar 2.0//EN
METHOD:PUBLISH
X-PUBLISHED-TTL:P3D
REFRESH-INTERVAL:P3D
CALSCALE:GREGORIAN
BEGIN:VEVENT
DTSTART:20150904T200000Z
DTEND:20150904T230000Z
X-MICROSOFT-CDO-ALLDAYEVENT:FALSE
SUMMARY:Battle of Barrow
DESCRIPTION:Battle of Barrow\n\nTailgate Barrow @ Apalachee H.S.
X-ALT-DESC;FMTTYPE=text/html:Battle of Barrow<br />\nTailgate Barrow @ Apalachee H.S.
LOCATION:Apalachee H.S.
UID:e.363.5812
SEQUENCE:3
DTSTAMP:20260421T011121Z
URL:https://barrowcm.365dtm.com/events/details/battle-of-barrow-09-04-2015-5812
END:VEVENT

END:VCALENDAR
