BEGIN:VCALENDAR
VERSION:2.0
PRODID:-//ChamberMaster//Event Calendar 2.0//EN
METHOD:PUBLISH
X-PUBLISHED-TTL:P3D
REFRESH-INTERVAL:P3D
CALSCALE:GREGORIAN
BEGIN:VEVENT
DTSTART:20101015T130000Z
DTEND:20101015T133000Z
X-MICROSOFT-CDO-ALLDAYEVENT:FALSE
SUMMARY:Bealls Outlet - Ribbon Cutting
DESCRIPTION:Bealls Outlet - Ribbon Cutting\n\nGrand Opening\n\n$10.00 off and purchase of $40.00 or more
X-ALT-DESC;FMTTYPE=text/html:Bealls Outlet - Ribbon Cutting<br />\nGrand Opening<br />\n$10.00 off and purchase of $40.00 or more
LOCATION:Winder Corners Shopping Center 17 Monroe Hwy Winder\, Ga 30680
UID:e.363.3621
SEQUENCE:3
DTSTAMP:20260424T213246Z
URL:https://barrowcm.365dtm.com/events/details/bealls-outlet-ribbon-cutting-10-15-2010-3621
END:VEVENT

END:VCALENDAR
