BEGIN:VCALENDAR
VERSION:2.0
PRODID:-//ChamberMaster//Event Calendar 2.0//EN
METHOD:PUBLISH
X-PUBLISHED-TTL:P3D
REFRESH-INTERVAL:P3D
CALSCALE:GREGORIAN
BEGIN:VEVENT
DTSTART:20091029T200000Z
DTEND:20091029T230000Z
X-MICROSOFT-CDO-ALLDAYEVENT:FALSE
SUMMARY:BEANS\, BEARS & BANDAIDS
DESCRIPTION:BEANS: A Chili Cook-off to raise funds for strategies and activities of Barrow County Family Connection/Communities In Schools\nBEARS: Toy Drive Kick-off for Holiday Connection\, the committee that coordinates county-wide holiday assistance for needy children.\nBANDAIDS: Health & Human Services Fair that offers free medical screenings such as blood pressure checks\, vision and dental screenings\, and FREE FLU SHOTS!!!!\n\nPLEASE CONTACT US FOR MORE INFORMATION ON BEING AN EVENT SPONSOR\, ENTERING THE CHILI COOK-OFF OR HAVING A BOOTH TO PROVIDE A HEALTH SCREENING OR INFORMATION ABOUT SERVICES YOUR AGENCY PROVIDES TO THE COMMUNITY.
X-ALT-DESC;FMTTYPE=text/html:BEANS: A Chili Cook-off to raise funds for strategies and activities of Barrow County Family Connection/Communities In Schools\nBEARS: Toy Drive Kick-off for Holiday Connection\, the committee that coordinates county-wide holiday assistance for needy children.\nBANDAIDS: Health & Human Services Fair that offers free medical screenings such as blood pressure checks\, vision and dental screenings\, and FREE FLU SHOTS!!!!\n\nPLEASE CONTACT US FOR MORE INFORMATION ON BEING AN EVENT SPONSOR\, ENTERING THE CHILI COOK-OFF OR HAVING A BOOTH TO PROVIDE A HEALTH SCREENING OR INFORMATION ABOUT SERVICES YOUR AGENCY PROVIDES TO THE COMMUNITY.
LOCATION:Barrow County Recreation Center\, 175 2nd St\, Winder
UID:e.363.3054
SEQUENCE:3
DTSTAMP:20260425T152826Z
URL:https://barrowcm.365dtm.com/events/details/beans-bears-bandaids-10-29-2009-3054
END:VEVENT

END:VCALENDAR
