BEGIN:VCALENDAR
VERSION:2.0
PRODID:-//ChamberMaster//Event Calendar 2.0//EN
METHOD:PUBLISH
X-PUBLISHED-TTL:P3D
REFRESH-INTERVAL:P3D
CALSCALE:GREGORIAN
BEGIN:VEVENT
DTSTART;VALUE=DATE:20090811
DTEND;VALUE=DATE:20090812
TRANSP:TRANSPARENT
X-MICROSOFT-CDO-ALLDAYEVENT:TRUE
SUMMARY:Belk Chamber Member Appreciation Day
DESCRIPTION:20% off Storewide (15% Home and Shoes) Regular and Sale Priced Merchandise Valid only on this date - Only at Belk-Barrow Crossing This is for ALL employees of Chamber members also.
X-ALT-DESC;FMTTYPE=text/html:<div>20% off Storewide (15% Home and Shoes) Regular and Sale Priced Merchandise Valid only on this date - Only at Belk-Barrow Crossing</div><div>&nbsp\;</div><div>This is for ALL employees of Chamber members also.</div>
LOCATION:Barrow Crossing
UID:e.363.3032
SEQUENCE:3
DTSTAMP:20260425T185819Z
URL:https://barrowcm.365dtm.com/events/details/belk-chamber-member-appreciation-day-08-11-2009-3032
END:VEVENT

END:VCALENDAR
