BEGIN:VCALENDAR
VERSION:2.0
PRODID:-//ChamberMaster//Event Calendar 2.0//EN
METHOD:PUBLISH
X-PUBLISHED-TTL:P3D
REFRESH-INTERVAL:P3D
CALSCALE:GREGORIAN
BEGIN:VEVENT
DTSTART:20090305T223000Z
DTEND:20090306T003000Z
X-MICROSOFT-CDO-ALLDAYEVENT:FALSE
SUMMARY:Belk Preview Business after Hours
DESCRIPTION:Business After Hours only for Chamber members: Come visit your Belk store and be the first to shop. RSVP the Chamber if you plan to attend
X-ALT-DESC;FMTTYPE=text/html:<div>Business After Hours only for Chamber members: Come visit your Belk store and be the first to shop. RSVP the Chamber if you plan to attend</div>
LOCATION:Belks\, Barrow Crossing Shopping\, 916 Loganville Hwy\, Suite 100\; Bethlehem\, Ga
UID:e.363.2665
SEQUENCE:3
DTSTAMP:20260426T024550Z
URL:https://barrowcm.365dtm.com/events/details/belk-preview-business-after-hours-03-05-2009-2665
END:VEVENT

END:VCALENDAR
