BEGIN:VCALENDAR
VERSION:2.0
PRODID:-//ChamberMaster//Event Calendar 2.0//EN
METHOD:PUBLISH
X-PUBLISHED-TTL:P3D
REFRESH-INTERVAL:P3D
CALSCALE:GREGORIAN
BEGIN:VEVENT
DTSTART:20090311T133000Z
DTEND:20090311T140000Z
X-MICROSOFT-CDO-ALLDAYEVENT:FALSE
SUMMARY:Belks Ribbon Cutting
DESCRIPTION:Belks Ribbon Cutting
X-ALT-DESC;FMTTYPE=text/html:Belks Ribbon Cutting\n
LOCATION:Barrow Crossing Shopping Center\, 916 Loganville Hwy\, Suite 100\, Bethlehem\, Ga
UID:e.363.2666
SEQUENCE:3
DTSTAMP:20260426T024545Z
URL:https://barrowcm.365dtm.com/events/details/belks-ribbon-cutting-03-11-2009-2666
END:VEVENT

END:VCALENDAR
