BEGIN:VCALENDAR
VERSION:2.0
PRODID:-//ChamberMaster//Event Calendar 2.0//EN
METHOD:PUBLISH
X-PUBLISHED-TTL:P3D
REFRESH-INTERVAL:P3D
CALSCALE:GREGORIAN
BEGIN:VEVENT
DTSTART:20120707T130000Z
DTEND:20120707T210000Z
X-MICROSOFT-CDO-ALLDAYEVENT:FALSE
SUMMARY:Bethlehem Craft Market
DESCRIPTION:We're seeking musicians\, artists\, and crafters of all types for our first arts & crafts event. We want to help support our local economy by showing off locally made handmade goods! Participation is only $15 for a 10x10 space. Contact us for information! Forms available in-store or on our website!\n\n	http://judsonhouse.net/Events___Specials.php\n\n	http://www.facebook.com/events/313809595362700/
X-ALT-DESC;FMTTYPE=text/html:<div style="text-align: center">\n	<span style="font-size: 14px"><span style="font-family: verdana">We&rsquo\;re seeking musicians\, artists\, and crafters of all types for our first arts &amp\; crafts event. We want to help support our local economy by showing off locally made handmade goods! Participation is only $15 for a 10x10 space. Contact us for information! Forms available in-store or on our website!</span></span><br />\n	<span style="font-size: 14px"><span style="font-family: verdana">http://judsonhouse.net/Events___Specials.php</span></span><br />\n	<span style="font-size: 14px"><span style="font-family: verdana">http://www.facebook.com/events/313809595362700/</span></span></div>\n
LOCATION:The Judson House - 812 Christmas Avenue - Bethlehem - next to the Post Office - one mile south of Hwy 316 on Hwy 11
UID:e.363.4268
SEQUENCE:3
DTSTAMP:20260423T144852Z
URL:https://barrowcm.365dtm.com/events/details/bethlehem-craft-market-07-07-2012-4268
END:VEVENT

END:VCALENDAR
