BEGIN:VCALENDAR
VERSION:2.0
PRODID:-//ChamberMaster//Event Calendar 2.0//EN
METHOD:PUBLISH
X-PUBLISHED-TTL:P3D
REFRESH-INTERVAL:P3D
CALSCALE:GREGORIAN
BEGIN:VEVENT
DTSTART:20120607T140000Z
DTEND:20120608T100000Z
X-MICROSOFT-CDO-ALLDAYEVENT:FALSE
SUMMARY:Bike Riders Across Georgia come to Winder
DESCRIPTION:1200 bike riders will arrive in Barrow County for the Bike Ride Across Georgia they will camp out at Winder Barrow High School
X-ALT-DESC;FMTTYPE=text/html:1200 bike riders&nbsp\;will arrive in Barrow&nbsp\;County for the Bike Ride Across&nbsp\;Georgia they will camp out at Winder Barrow&nbsp\;High School
LOCATION:Winder Barrow High School 275 North 5 th Street Winder\, GA 30680
UID:e.363.4250
SEQUENCE:3
DTSTAMP:20260423T163037Z
URL:https://barrowcm.365dtm.com/events/details/bike-riders-across-georgia-come-to-winder-06-07-2012-4250
END:VEVENT

END:VCALENDAR
