BEGIN:VCALENDAR
VERSION:2.0
PRODID:-//ChamberMaster//Event Calendar 2.0//EN
METHOD:PUBLISH
X-PUBLISHED-TTL:P3D
REFRESH-INTERVAL:P3D
CALSCALE:GREGORIAN
BEGIN:VEVENT
DTSTART;VALUE=DATE:20090915
DTEND;VALUE=DATE:20090926
TRANSP:TRANSPARENT
X-MICROSOFT-CDO-ALLDAYEVENT:TRUE
SUMMARY:Blue Jeans for Babies
DESCRIPTION:Blue Jeans for Babies - buy a $10 t-shirt to support the March of Dimes in recognition of Prematurity Awareness Month.  Youth sizes offered.  Orders due by September 25\, 2009.
X-ALT-DESC;FMTTYPE=text/html:Blue Jeans for Babies - buy a $10 t-shirt to support the March of Dimes in recognition of Prematurity Awareness Month.  Youth sizes offered.  Orders due by September 25\, 2009.
LOCATION:
UID:e.363.3050
SEQUENCE:3
DTSTAMP:20260425T173117Z
URL:https://barrowcm.365dtm.com/events/details/blue-jeans-for-babies-09-15-2009-3050
END:VEVENT

END:VCALENDAR
