BEGIN:VCALENDAR
VERSION:2.0
PRODID:-//ChamberMaster//Event Calendar 2.0//EN
METHOD:PUBLISH
X-PUBLISHED-TTL:P3D
REFRESH-INTERVAL:P3D
CALSCALE:GREGORIAN
BEGIN:VEVENT
DTSTART:20160225T153000Z
DTEND:20160225T163000Z
X-MICROSOFT-CDO-ALLDAYEVENT:FALSE
SUMMARY:Board of Directores Meeting
DESCRIPTION:Board meeting at the Chamber
X-ALT-DESC;FMTTYPE=text/html:Board meeting at the Chamber
LOCATION:
UID:e.363.5860
SEQUENCE:3
DTSTAMP:20260420T172711Z
URL:https://barrowcm.365dtm.com/events/details/board-of-directores-meeting-02-25-2016-5860
END:VEVENT

END:VCALENDAR
