BEGIN:VCALENDAR
VERSION:2.0
PRODID:-//ChamberMaster//Event Calendar 2.0//EN
METHOD:PUBLISH
X-PUBLISHED-TTL:P3D
REFRESH-INTERVAL:P3D
CALSCALE:GREGORIAN
BEGIN:VEVENT
DTSTART:20110222T153000Z
DTEND:20110222T164500Z
X-MICROSOFT-CDO-ALLDAYEVENT:FALSE
SUMMARY:Board of Directors Meeting
DESCRIPTION:Board of Directors Meeting
X-ALT-DESC;FMTTYPE=text/html:Board of Directors Meeting
LOCATION:Chamber Office # 6 Porter Street\, WInder
UID:e.363.3665
SEQUENCE:3
DTSTAMP:20260424T152509Z
URL:https://barrowcm.365dtm.com/events/details/board-of-directors-meeting-02-22-2011-3665
END:VEVENT

END:VCALENDAR
