BEGIN:VCALENDAR
VERSION:2.0
PRODID:-//ChamberMaster//Event Calendar 2.0//EN
METHOD:PUBLISH
X-PUBLISHED-TTL:P3D
REFRESH-INTERVAL:P3D
CALSCALE:GREGORIAN
BEGIN:VEVENT
DTSTART:20110322T143000Z
DTEND:20110322T153000Z
X-MICROSOFT-CDO-ALLDAYEVENT:FALSE
SUMMARY:Board of Directors Meeting
DESCRIPTION:Board of Directors meeting
X-ALT-DESC;FMTTYPE=text/html:Board of Directors meeting
LOCATION:Chamber Office
UID:e.363.3681
SEQUENCE:3
DTSTAMP:20260424T134731Z
URL:https://barrowcm.365dtm.com/events/details/board-of-directors-meeting-03-22-2011-3681
END:VEVENT

END:VCALENDAR
