BEGIN:VCALENDAR
VERSION:2.0
PRODID:-//ChamberMaster//Event Calendar 2.0//EN
METHOD:PUBLISH
X-PUBLISHED-TTL:P3D
REFRESH-INTERVAL:P3D
CALSCALE:GREGORIAN
BEGIN:VEVENT
DTSTART:20150326T143000Z
DTEND:20150326T153000Z
X-MICROSOFT-CDO-ALLDAYEVENT:FALSE
SUMMARY:Board of Directors Meeting
DESCRIPTION:Board of Directors meeting
X-ALT-DESC;FMTTYPE=text/html:Board of Directors meeting
LOCATION:Chamber Office
UID:e.363.5494
SEQUENCE:3
DTSTAMP:20260421T105850Z
URL:https://barrowcm.365dtm.com/events/details/board-of-directors-meeting-03-26-2015-5494
END:VEVENT

END:VCALENDAR
