BEGIN:VCALENDAR
VERSION:2.0
PRODID:-//ChamberMaster//Event Calendar 2.0//EN
METHOD:PUBLISH
X-PUBLISHED-TTL:P3D
REFRESH-INTERVAL:P3D
CALSCALE:GREGORIAN
BEGIN:VEVENT
DTSTART:20110426T143000Z
DTEND:20110426T153000Z
X-MICROSOFT-CDO-ALLDAYEVENT:FALSE
SUMMARY:Board of Directors Meeting
DESCRIPTION:Board of Directors meeting
X-ALT-DESC;FMTTYPE=text/html:Board of Directors meeting
LOCATION:Chamber Office
UID:e.363.3721
SEQUENCE:3
DTSTAMP:20260424T121707Z
URL:https://barrowcm.365dtm.com/events/details/board-of-directors-meeting-04-26-2011-3721
END:VEVENT

END:VCALENDAR
