BEGIN:VCALENDAR
VERSION:2.0
PRODID:-//ChamberMaster//Event Calendar 2.0//EN
METHOD:PUBLISH
X-PUBLISHED-TTL:P3D
REFRESH-INTERVAL:P3D
CALSCALE:GREGORIAN
BEGIN:VEVENT
DTSTART;VALUE=DATE:20131024
DTEND;VALUE=DATE:20131025
TRANSP:TRANSPARENT
X-MICROSOFT-CDO-ALLDAYEVENT:TRUE
SUMMARY:Board of Directors Meeting
DESCRIPTION:Board of Directors Meeting
X-ALT-DESC;FMTTYPE=text/html:Board of Directors Meeting<br />\n
LOCATION:Chamber Office
UID:e.363.5145
SEQUENCE:3
DTSTAMP:20260422T161505Z
URL:https://barrowcm.365dtm.com/events/details/board-of-directors-meeting-10-24-2013-5145
END:VEVENT

END:VCALENDAR
