BEGIN:VCALENDAR
VERSION:2.0
PRODID:-//ChamberMaster//Event Calendar 2.0//EN
METHOD:PUBLISH
X-PUBLISHED-TTL:P3D
REFRESH-INTERVAL:P3D
CALSCALE:GREGORIAN
BEGIN:VEVENT
DTSTART:20130615T150000Z
DTEND:20130615T180000Z
X-MICROSOFT-CDO-ALLDAYEVENT:FALSE
SUMMARY:Book Signing
DESCRIPTION:Meet young adult author C. S. Johnson and get an autographed copy of her book "The Starlight Chronicles: Slumbering"
X-ALT-DESC;FMTTYPE=text/html:Meet young adult author C. S. Johnson and get an autographed copy of her book &quot\;The Starlight Chronicles: Slumbering&quot\;
LOCATION:The Principal's Palette 9 W. Wright St. in Winder
UID:e.363.4893
SEQUENCE:3
DTSTAMP:20260422T220411Z
URL:https://barrowcm.365dtm.com/events/details/book-signing-06-15-2013-4893
END:VEVENT

END:VCALENDAR
