BEGIN:VCALENDAR
VERSION:2.0
PRODID:-//ChamberMaster//Event Calendar 2.0//EN
METHOD:PUBLISH
X-PUBLISHED-TTL:P3D
REFRESH-INTERVAL:P3D
CALSCALE:GREGORIAN
BEGIN:VEVENT
DTSTART:20101218T140000Z
DTEND:20101218T170000Z
X-MICROSOFT-CDO-ALLDAYEVENT:FALSE
SUMMARY:Boy Scout Fundraiser
DESCRIPTION:Pancake Breakfast with Santa
X-ALT-DESC;FMTTYPE=text/html:Pancake Breakfast with Santa
LOCATION:American Legion Post 53 at 456 Watson Rd. in Winder
UID:e.363.3649
SEQUENCE:3
DTSTAMP:20260424T182413Z
URL:https://barrowcm.365dtm.com/events/details/boy-scout-fundraiser-12-18-2010-3649
END:VEVENT

END:VCALENDAR
