BEGIN:VCALENDAR
VERSION:2.0
PRODID:-//ChamberMaster//Event Calendar 2.0//EN
METHOD:PUBLISH
X-PUBLISHED-TTL:P3D
REFRESH-INTERVAL:P3D
CALSCALE:GREGORIAN
BEGIN:VEVENT
DTSTART;VALUE=DATE:20150425
DTEND;VALUE=DATE:20150426
TRANSP:TRANSPARENT
X-MICROSOFT-CDO-ALLDAYEVENT:TRUE
SUMMARY:BrandBank hosting a Shred Day
DESCRIPTION:Come vist BrandBank and bring you paper stuff to Shred
X-ALT-DESC;FMTTYPE=text/html:Come vist BrandBank and bring you paper stuff to Shred
LOCATION:60 N. Jackson St.
UID:e.363.5766
SEQUENCE:3
DTSTAMP:20260421T092411Z
URL:https://barrowcm.365dtm.com/events/details/brandbank-hosting-a-shred-day-04-25-2015-5766
END:VEVENT

END:VCALENDAR
