BEGIN:VCALENDAR
VERSION:2.0
PRODID:-//ChamberMaster//Event Calendar 2.0//EN
METHOD:PUBLISH
X-PUBLISHED-TTL:P3D
REFRESH-INTERVAL:P3D
CALSCALE:GREGORIAN
BEGIN:VEVENT
DTSTART:20150327T144500Z
DTEND:20150327T163000Z
X-MICROSOFT-CDO-ALLDAYEVENT:FALSE
SUMMARY:BrandBank Ribbon Cutting
DESCRIPTION:Ribbon Cutting at 10:45 then serving Lunch\n\nBrandBank is serving Casey's
X-ALT-DESC;FMTTYPE=text/html:Ribbon Cutting at 10:45 then serving Lunch<br />\nBrandBank is serving Casey&#39\;s
LOCATION:60 N. Jackson St\, Winder
UID:e.363.5764
SEQUENCE:3
DTSTAMP:20260421T105857Z
URL:https://barrowcm.365dtm.com/events/details/brandbank-ribbon-cutting-03-27-2015-5764
END:VEVENT

END:VCALENDAR
