BEGIN:VCALENDAR
VERSION:2.0
PRODID:-//ChamberMaster//Event Calendar 2.0//EN
METHOD:PUBLISH
X-PUBLISHED-TTL:P3D
REFRESH-INTERVAL:P3D
CALSCALE:GREGORIAN
BEGIN:VEVENT
DTSTART:20150410T153000Z
DTEND:20150410T163000Z
X-MICROSOFT-CDO-ALLDAYEVENT:FALSE
SUMMARY:BrandBank serving lunch by Friends
DESCRIPTION:Friends will be serving lunch for BrandBank\n\nCome visit
X-ALT-DESC;FMTTYPE=text/html:Friends will be serving lunch for BrandBank<br />\nCome visit
LOCATION:60 N. Jackson St.
UID:e.363.5765
SEQUENCE:3
DTSTAMP:20260421T092414Z
URL:https://barrowcm.365dtm.com/events/details/brandbank-serving-lunch-by-friends-04-10-2015-5765
END:VEVENT

END:VCALENDAR
