BEGIN:VCALENDAR
VERSION:2.0
PRODID:-//ChamberMaster//Event Calendar 2.0//EN
METHOD:PUBLISH
X-PUBLISHED-TTL:P3D
REFRESH-INTERVAL:P3D
CALSCALE:GREGORIAN
BEGIN:VEVENT
DTSTART:20141002T223000Z
DTEND:20141003T013000Z
X-MICROSOFT-CDO-ALLDAYEVENT:FALSE
SUMMARY:Braselton "Hoedown"
DESCRIPTION:It is through sponsorships that our downtown program is able to continue giving back to the community\, offering economic development opportunities and support to Downtown Braselton businesses.  \n\n\n\n \n\nBM&K makes a difference in our community and we are happy to have them as a partner!  The Toast to Braselton is an annual fundraiser sponsored by the DDA.  \n\n\n\n \n\nThis year's "Hoedown" will take place on Thursday\, Oct 2nd from 6:30pm to 9:30pm at the Braselton Stover House.  Tickets can be purchased by contacting Amy at 706-684-0369 or apinnell@braselton.net
X-ALT-DESC;FMTTYPE=text/html:<span style="color:black\;"><span style="font-size:14.0pt\;">It is through sponsorships that our downtown program is able to continue giving back to the community\, offering economic development opportunities and support to Downtown Braselton businesses.&nbsp\;&nbsp\;</span></span><br />\n<br />\n&nbsp\;<br />\n<span style="color:black\;"><span style="font-size:14.0pt\;">BM&amp\;K makes a difference in our community and we are happy to have them as a partner!&nbsp\; The Toast to Braselton is an annual fundraiser sponsored by the DDA.&nbsp\;&nbsp\;</span></span><br />\n<br />\n&nbsp\;<br />\n<span style="color:black\;"><span style="font-size:14.0pt\;">This year&#39\;s &quot\;Hoedown&quot\; will take place on Thursday\, Oct 2nd from 6:30pm to 9:30pm at the Braselton Stover House.&nbsp\; Tickets can be purchased by contacting Amy at 706-684-0369 or <a href="mailto:apinnell@braselton.net" shape="rect">apinnell@braselton.net</a></span></span>
LOCATION:
UID:e.363.5464
SEQUENCE:3
DTSTAMP:20260421T184022Z
URL:https://barrowcm.365dtm.com/events/details/braselton-hoedown-10-02-2014-5464
END:VEVENT

END:VCALENDAR
