BEGIN:VCALENDAR
VERSION:2.0
PRODID:-//ChamberMaster//Event Calendar 2.0//EN
METHOD:PUBLISH
X-PUBLISHED-TTL:P3D
REFRESH-INTERVAL:P3D
CALSCALE:GREGORIAN
BEGIN:VEVENT
DTSTART:20111113T180000Z
DTEND:20111113T200000Z
X-MICROSOFT-CDO-ALLDAYEVENT:FALSE
SUMMARY:Bridal Event
DESCRIPTION:Our Sunday November 13th\n\n	Fall Bridal Event: 1-3pm\n\n	Meet our select vendor partners and taste our Carl House Culinary delights \n\n	see our event menu by going to www.carlhouse.com and click on upcoming events.\n\n	\n\n	House Brides plus one guest admitted free of charge.\n\n	Each additional guest $15\n\n	\n\n	Potential Carl House brides admitted free\, each additional guest $15. Call 770-586-0095 for reservations.
X-ALT-DESC;FMTTYPE=text/html:<p style="text-align: center">\n	<strong>Our Sunday November 13th<br />\n	Fall Bridal Event: 1-3pm<br />\n	Meet our select vendor partners and taste our Carl House Culinary delights&hellip\;<br />\n	see our event menu by going to <a href="http://www.carlhouse.com">www.carlhouse.com</a> and click on upcoming events.<br />\n	<br />\n	House Brides plus one guest admitted free of charge.<br />\n	Each additional guest $15<br />\n	<br />\n	Potential Carl House brides admitted free\, each additional guest $15. Call 770-586-0095 for reservations.</strong><br />\n	&nbsp\;</p>\n
LOCATION:Carl House 1176 Atlanta Hwy Auburn\, GA 30011
UID:e.363.4108
SEQUENCE:3
DTSTAMP:20260424T024716Z
URL:https://barrowcm.365dtm.com/events/details/bridal-event-11-13-2011-4108
END:VEVENT

END:VCALENDAR
