BEGIN:VCALENDAR
VERSION:2.0
PRODID:-//ChamberMaster//Event Calendar 2.0//EN
METHOD:PUBLISH
X-PUBLISHED-TTL:P3D
REFRESH-INTERVAL:P3D
CALSCALE:GREGORIAN
BEGIN:VEVENT
DTSTART:20120729T170000Z
DTEND:20120729T190000Z
X-MICROSOFT-CDO-ALLDAYEVENT:FALSE
SUMMARY:Bridal Event at Carl House
DESCRIPTION:Come explore the latest wedding trends with our exclusive Carl House Bridal Event!  We will be featuring the latest colors and trends\, as we showcase some of our favorite vendors.  Please RSVP by Monday\, July 23rd at 770.586.0095 or at info@carlhouse.com.
X-ALT-DESC;FMTTYPE=text/html:Come explore the latest wedding trends with our exclusive Carl House Bridal Event! &nbsp\;We will be featuring the latest colors and trends\, as we showcase some of our favorite vendors. &nbsp\;Please RSVP by Monday\, July 23rd at 770.586.0095 or at info@carlhouse.com.
LOCATION:Carl House\, 1176 Atlanta Highway - Auburn\, GA 30011
UID:e.363.4266
SEQUENCE:3
DTSTAMP:20260423T145303Z
URL:https://barrowcm.365dtm.com/events/details/bridal-event-at-carl-house-07-29-2012-4266
END:VEVENT

END:VCALENDAR
