BEGIN:VCALENDAR
VERSION:2.0
PRODID:-//ChamberMaster//Event Calendar 2.0//EN
METHOD:PUBLISH
X-PUBLISHED-TTL:P3D
REFRESH-INTERVAL:P3D
CALSCALE:GREGORIAN
BEGIN:VEVENT
DTSTART:20130121T200000Z
DTEND:20130121T230000Z
X-MICROSOFT-CDO-ALLDAYEVENT:FALSE
SUMMARY:Broun's Staff to Host Constituent Service Day
DESCRIPTION:Congressman Paul Broun\, M.D. today announced that his field representatives\n\nwill host Constituent Service Days Throughout Georgia's newly drawn 10th Congressional District.  The meeting s will take place in Barrow County for\n\npeople to ask questions and see what services the Congressman's Office may provide
X-ALT-DESC;FMTTYPE=text/html:Congressman Paul Broun\, M.D. today announced that his field representatives<br />\nwill host Constituent Service Days Throughout Georgia&#39\;s newly drawn 10th Congressional District.&nbsp\; The meeting s will take place in Barrow County for<br />\npeople to ask questions and see what services the Congressman&#39\;s Office may provide
LOCATION:Chamber Office
UID:e.363.4815
SEQUENCE:3
DTSTAMP:20260423T054157Z
URL:https://barrowcm.365dtm.com/events/details/broun-s-staff-to-host-constituent-service-day-01-21-2013-4815
END:VEVENT

END:VCALENDAR
