BEGIN:VCALENDAR
VERSION:2.0
PRODID:-//ChamberMaster//Event Calendar 2.0//EN
METHOD:PUBLISH
X-PUBLISHED-TTL:P3D
REFRESH-INTERVAL:P3D
CALSCALE:GREGORIAN
BEGIN:VEVENT
DTSTART;VALUE=DATE:20121113
DTEND;VALUE=DATE:20121115
TRANSP:TRANSPARENT
X-MICROSOFT-CDO-ALLDAYEVENT:TRUE
SUMMARY:Budgeting for the Holidays Seminar
DESCRIPTION:FREE seminar to help you budget for the holidays.  Led by DeWayne Hamilton
X-ALT-DESC;FMTTYPE=text/html:FREE seminar to help you budget for the holidays.&nbsp\; Led by DeWayne Hamilton
LOCATION:YMCA of Georgia's Piedmont- Brad Akins Branch
UID:e.363.4791
SEQUENCE:3
DTSTAMP:20260423T085146Z
URL:https://barrowcm.365dtm.com/events/details/budgeting-for-the-holidays-seminar-11-13-2012-4791
END:VEVENT

END:VCALENDAR
