BEGIN:VCALENDAR
VERSION:2.0
PRODID:-//ChamberMaster//Event Calendar 2.0//EN
METHOD:PUBLISH
X-PUBLISHED-TTL:P3D
REFRESH-INTERVAL:P3D
CALSCALE:GREGORIAN
BEGIN:VEVENT
DTSTART;VALUE=DATE:20090212
DTEND;VALUE=DATE:20090213
TRANSP:TRANSPARENT
X-MICROSOFT-CDO-ALLDAYEVENT:TRUE
SUMMARY:Business After Hours
DESCRIPTION:Business After Hours - Sponsored by:\nPiedmont of GA YMCA
X-ALT-DESC;FMTTYPE=text/html:Business After Hours - Sponsored by:\nPiedmont of GA YMCA
LOCATION:YMCA - 50 Brad Akin Drive\, Winder
UID:e.363.2652
SEQUENCE:3
DTSTAMP:20260426T041517Z
URL:https://barrowcm.365dtm.com/events/details/business-after-hours-02-12-2009-2652
END:VEVENT

END:VCALENDAR
