BEGIN:VCALENDAR
VERSION:2.0
PRODID:-//ChamberMaster//Event Calendar 2.0//EN
METHOD:PUBLISH
X-PUBLISHED-TTL:P3D
REFRESH-INTERVAL:P3D
CALSCALE:GREGORIAN
BEGIN:VEVENT
DTSTART:20130521T213000Z
DTEND:20130521T233000Z
X-MICROSOFT-CDO-ALLDAYEVENT:FALSE
SUMMARY:Business after Hours
DESCRIPTION:Akins and Frazier Co. sponsors of\n\nBusiness after Hours
X-ALT-DESC;FMTTYPE=text/html:Akins and Frazier Co. sponsors of<br />\nBusiness after Hours
LOCATION:Akins Ford-Dodge-Jeep-Chrysler 220 West May Street Winder\, Ga
UID:e.363.4885
SEQUENCE:3
DTSTAMP:20260422T233155Z
URL:https://barrowcm.365dtm.com/events/details/business-after-hours-05-21-2013-4885
END:VEVENT

END:VCALENDAR
