BEGIN:VCALENDAR
VERSION:2.0
PRODID:-//ChamberMaster//Event Calendar 2.0//EN
METHOD:PUBLISH
X-PUBLISHED-TTL:P3D
REFRESH-INTERVAL:P3D
CALSCALE:GREGORIAN
BEGIN:VEVENT
DTSTART:20090611T213000Z
DTEND:20090611T230000Z
X-MICROSOFT-CDO-ALLDAYEVENT:FALSE
SUMMARY:Business After HOurs
DESCRIPTION:Sponsored by: Cartiridge World of Winder
X-ALT-DESC;FMTTYPE=text/html:<div>Sponsored by: Cartiridge World of Winder</div>
LOCATION:Held at The Barrow County Chamber of Commerce#6 Porter StreetWinder
UID:e.363.2994
SEQUENCE:3
DTSTAMP:20260425T214628Z
URL:https://barrowcm.365dtm.com/events/details/business-after-hours-06-11-2009-2994
END:VEVENT

END:VCALENDAR
