BEGIN:VCALENDAR
VERSION:2.0
PRODID:-//ChamberMaster//Event Calendar 2.0//EN
METHOD:PUBLISH
X-PUBLISHED-TTL:P3D
REFRESH-INTERVAL:P3D
CALSCALE:GREGORIAN
BEGIN:VEVENT
DTSTART;VALUE=DATE:20101202
DTEND;VALUE=DATE:20101203
TRANSP:TRANSPARENT
X-MICROSOFT-CDO-ALLDAYEVENT:TRUE
SUMMARY:Business after Hours
DESCRIPTION:Business after Hours\n\nSponsored by:  CB & T  (Commuinity Bank & Trust)
X-ALT-DESC;FMTTYPE=text/html:Business after Hours<br />\nSponsored by:&nbsp\; CB &amp\; T&nbsp\; (Commuinity Bank &amp\; Trust)
LOCATION:Community Bank & Trust (Main Branch) 4 Mimosa Street\, WInder
UID:e.363.3619
SEQUENCE:3
DTSTAMP:20260424T182542Z
URL:https://barrowcm.365dtm.com/events/details/business-after-hours-12-02-2010-3619
END:VEVENT

END:VCALENDAR
