BEGIN:VCALENDAR
VERSION:2.0
PRODID:-//ChamberMaster//Event Calendar 2.0//EN
METHOD:PUBLISH
X-PUBLISHED-TTL:P3D
REFRESH-INTERVAL:P3D
CALSCALE:GREGORIAN
BEGIN:VEVENT
DTSTART:20091210T223000Z
DTEND:20091211T000000Z
X-MICROSOFT-CDO-ALLDAYEVENT:FALSE
SUMMARY:Business After Hours
DESCRIPTION:Business After Hours\nSponsored by the Peoples Bank
X-ALT-DESC;FMTTYPE=text/html:Business After Hours\nSponsored by the Peoples Bank
LOCATION:The Peoples Bank5 Main Street\, Auburn\, GA 30011
UID:e.363.3020
SEQUENCE:3
DTSTAMP:20260425T122605Z
URL:https://barrowcm.365dtm.com/events/details/business-after-hours-12-10-2009-3020
END:VEVENT

END:VCALENDAR
