BEGIN:VCALENDAR
VERSION:2.0
PRODID:-//ChamberMaster//Event Calendar 2.0//EN
METHOD:PUBLISH
X-PUBLISHED-TTL:P3D
REFRESH-INTERVAL:P3D
CALSCALE:GREGORIAN
BEGIN:VEVENT
DTSTART:20121127T221500Z
DTEND:20121128T003000Z
X-MICROSOFT-CDO-ALLDAYEVENT:FALSE
SUMMARY:Business after Hours @ Barrow Regional Medical Center
DESCRIPTION:Lights of Love Ceremony & Business after Hours\n\nBarrow Regional Medical Center    \n\nSponsored by:  Smartworx
X-ALT-DESC;FMTTYPE=text/html:Lights of Love Ceremony &amp\; Business after Hours<br />\nBarrow Regional Medical Center&nbsp\;&nbsp\;&nbsp\;&nbsp\;<br />\nSponsored by:&nbsp\; Smartworx<br />\n
LOCATION:316 North Broad St. Winder\, Ga.
UID:e.363.4559
SEQUENCE:3
DTSTAMP:20260423T085106Z
URL:https://barrowcm.365dtm.com/events/details/business-after-hours-barrow-regional-medical-center-11-27-2012-4559
END:VEVENT

END:VCALENDAR
