BEGIN:VCALENDAR
VERSION:2.0
PRODID:-//ChamberMaster//Event Calendar 2.0//EN
METHOD:PUBLISH
X-PUBLISHED-TTL:P3D
REFRESH-INTERVAL:P3D
CALSCALE:GREGORIAN
BEGIN:VEVENT
DTSTART:20151203T220000Z
DTEND:20151204T000000Z
X-MICROSOFT-CDO-ALLDAYEVENT:FALSE
SUMMARY:Business after Hours - BrandBank
DESCRIPTION:Business after Hours
X-ALT-DESC;FMTTYPE=text/html:Business after Hours
LOCATION:
UID:e.363.5833
SEQUENCE:3
DTSTAMP:20260420T203707Z
URL:https://barrowcm.365dtm.com/events/details/business-after-hours-brandbank-12-03-2015-5833
END:VEVENT

END:VCALENDAR
