BEGIN:VCALENDAR
VERSION:2.0
PRODID:-//ChamberMaster//Event Calendar 2.0//EN
METHOD:PUBLISH
X-PUBLISHED-TTL:P3D
REFRESH-INTERVAL:P3D
CALSCALE:GREGORIAN
BEGIN:VEVENT
DTSTART:20120817T213000Z
DTEND:20120817T233000Z
X-MICROSOFT-CDO-ALLDAYEVENT:FALSE
SUMMARY:Business after Hours @ Expo
DESCRIPTION:Barrow County Home EXPO - Business after Hours
X-ALT-DESC;FMTTYPE=text/html:Barrow County Home EXPO - Business after Hours
LOCATION:Barrow County Rec. Department 175 Second Street.
UID:e.363.4214
SEQUENCE:3
DTSTAMP:20260423T132522Z
URL:https://barrowcm.365dtm.com/events/details/business-after-hours-expo-08-17-2012-4214
END:VEVENT

END:VCALENDAR
