BEGIN:VCALENDAR
VERSION:2.0
PRODID:-//ChamberMaster//Event Calendar 2.0//EN
METHOD:PUBLISH
X-PUBLISHED-TTL:P3D
REFRESH-INTERVAL:P3D
CALSCALE:GREGORIAN
BEGIN:VEVENT
DTSTART:20100902T213000Z
DTEND:20100902T233000Z
X-MICROSOFT-CDO-ALLDAYEVENT:FALSE
SUMMARY:Business after Hours - Fidelity Bank
DESCRIPTION:Fidliety Bank Sponsoring - Business after HoursNew Location
X-ALT-DESC;FMTTYPE=text/html:<div>Fidliety Bank Sponsoring - Business after Hours</div><div>New Location</div>
LOCATION:20 West May Street\, Winder
UID:e.363.3582
SEQUENCE:3
DTSTAMP:20260424T224430Z
URL:https://barrowcm.365dtm.com/events/details/business-after-hours-fidelity-bank-09-02-2010-3582
END:VEVENT

END:VCALENDAR
