BEGIN:VCALENDAR
VERSION:2.0
PRODID:-//ChamberMaster//Event Calendar 2.0//EN
METHOD:PUBLISH
X-PUBLISHED-TTL:P3D
REFRESH-INTERVAL:P3D
CALSCALE:GREGORIAN
BEGIN:VEVENT
DTSTART:20160922T210000Z
DTEND:20160922T230000Z
X-MICROSOFT-CDO-ALLDAYEVENT:FALSE
SUMMARY:Business after Hours - Fideltiy Bank
DESCRIPTION:Business after Hours\n\nFidelity Bank
X-ALT-DESC;FMTTYPE=text/html:Business after Hours<br />\nFidelity Bank
LOCATION:
UID:e.363.5891
SEQUENCE:3
DTSTAMP:20260420T064356Z
URL:https://barrowcm.365dtm.com/events/details/business-after-hours-fideltiy-bank-09-22-2016-5891
END:VEVENT

END:VCALENDAR
