BEGIN:VCALENDAR
VERSION:2.0
PRODID:-//ChamberMaster//Event Calendar 2.0//EN
METHOD:PUBLISH
X-PUBLISHED-TTL:P3D
REFRESH-INTERVAL:P3D
CALSCALE:GREGORIAN
BEGIN:VEVENT
DTSTART:20150312T210000Z
DTEND:20150312T230000Z
X-MICROSOFT-CDO-ALLDAYEVENT:FALSE
SUMMARY:Business After Hours - Fidleity Bank
DESCRIPTION:Business after Hours\n\nFidelity Bank
X-ALT-DESC;FMTTYPE=text/html:Business after Hours<br />\nFidelity Bank<br />\n&nbsp\;
LOCATION:20 West May Street Winder\, Ga
UID:e.363.5492
SEQUENCE:3
DTSTAMP:20260421T110005Z
URL:https://barrowcm.365dtm.com/events/details/business-after-hours-fidleity-bank-03-12-2015-5492
END:VEVENT

END:VCALENDAR
