BEGIN:VCALENDAR
VERSION:2.0
PRODID:-//ChamberMaster//Event Calendar 2.0//EN
METHOD:PUBLISH
X-PUBLISHED-TTL:P3D
REFRESH-INTERVAL:P3D
CALSCALE:GREGORIAN
BEGIN:VEVENT
DTSTART:20141204T220000Z
DTEND:20141205T000000Z
X-MICROSOFT-CDO-ALLDAYEVENT:FALSE
SUMMARY:Business after Hours - Keller Williams
DESCRIPTION:Business after Hours\n\nKeller Williams
X-ALT-DESC;FMTTYPE=text/html:Business after Hours<br />\nKeller Williams
LOCATION:146 W Athens Street
UID:e.363.5476
SEQUENCE:3
DTSTAMP:20260421T151519Z
URL:https://barrowcm.365dtm.com/events/details/business-after-hours-keller-williams-12-04-2014-5476
END:VEVENT

END:VCALENDAR
