BEGIN:VCALENDAR
VERSION:2.0
PRODID:-//ChamberMaster//Event Calendar 2.0//EN
METHOD:PUBLISH
X-PUBLISHED-TTL:P3D
REFRESH-INTERVAL:P3D
CALSCALE:GREGORIAN
BEGIN:VEVENT
DTSTART:20110621T211500Z
DTEND:20110621T231500Z
X-MICROSOFT-CDO-ALLDAYEVENT:FALSE
SUMMARY:Business after Hours - Peoples Equity Partners\, LLC
DESCRIPTION:Business after Hours\n\nPeoples Equity Partners\, LLC
X-ALT-DESC;FMTTYPE=text/html:Business after Hours<br />\nPeoples Equity Partners\, LLC<br />\n
LOCATION:58 W. Candler Street Winder\, GA 30680
UID:e.363.4027
SEQUENCE:3
DTSTAMP:20260424T093100Z
URL:https://barrowcm.365dtm.com/events/details/business-after-hours-peoples-equity-partners-llc-06-21-2011-4027
END:VEVENT

END:VCALENDAR
