BEGIN:VCALENDAR
VERSION:2.0
PRODID:-//ChamberMaster//Event Calendar 2.0//EN
METHOD:PUBLISH
X-PUBLISHED-TTL:P3D
REFRESH-INTERVAL:P3D
CALSCALE:GREGORIAN
BEGIN:VEVENT
DTSTART:20120410T210000Z
DTEND:20120410T230000Z
X-MICROSOFT-CDO-ALLDAYEVENT:FALSE
SUMMARY:Business After Hours - Regions Bank
DESCRIPTION:Business After Hours\n\nRegions Bank
X-ALT-DESC;FMTTYPE=text/html:Business After Hours<br />\nRegions Bank<br />\n
LOCATION:209 North Broad Street Winder\, GA 30680
UID:e.363.4185
SEQUENCE:3
DTSTAMP:20260423T194041Z
URL:https://barrowcm.365dtm.com/events/details/business-after-hours-regions-bank-04-10-2012-4185
END:VEVENT

END:VCALENDAR
