BEGIN:VCALENDAR
VERSION:2.0
PRODID:-//ChamberMaster//Event Calendar 2.0//EN
METHOD:PUBLISH
X-PUBLISHED-TTL:P3D
REFRESH-INTERVAL:P3D
CALSCALE:GREGORIAN
BEGIN:VEVENT
DTSTART;VALUE=DATE:20131205
DTEND;VALUE=DATE:20131206
TRANSP:TRANSPARENT
X-MICROSOFT-CDO-ALLDAYEVENT:TRUE
SUMMARY:Business after Hours & Ribbon Cutting
DESCRIPTION:Business after Hours\n\nNelson Sanders.com Portraits & All County Electric
X-ALT-DESC;FMTTYPE=text/html:Business after Hours<br />\nNelson Sanders.com Portraits &amp\; All County Electric<br />\n
LOCATION:35 N. Broad\, Winder GA Next to Loco's
UID:e.363.5170
SEQUENCE:3
DTSTAMP:20260422T094820Z
URL:https://barrowcm.365dtm.com/events/details/business-after-hours-ribbon-cutting-12-05-2013-5170
END:VEVENT

END:VCALENDAR
