BEGIN:VCALENDAR
VERSION:2.0
PRODID:-//ChamberMaster//Event Calendar 2.0//EN
METHOD:PUBLISH
X-PUBLISHED-TTL:P3D
REFRESH-INTERVAL:P3D
CALSCALE:GREGORIAN
BEGIN:VEVENT
DTSTART:20141028T210000Z
DTEND:20141028T230000Z
X-MICROSOFT-CDO-ALLDAYEVENT:FALSE
SUMMARY:Business after Hours - Strickland and Lindsay
DESCRIPTION:Business after Hours\n\nStrickland and Lindsay\, LLC
X-ALT-DESC;FMTTYPE=text/html:Business after Hours<br />\nStrickland and Lindsay\, LLC
LOCATION:76 West Candler Street\, Winder\, GA
UID:e.363.5457
SEQUENCE:3
DTSTAMP:20260421T184516Z
URL:https://barrowcm.365dtm.com/events/details/business-after-hours-strickland-and-lindsay-10-28-2014-5457
END:VEVENT

END:VCALENDAR
