BEGIN:VCALENDAR
VERSION:2.0
PRODID:-//ChamberMaster//Event Calendar 2.0//EN
METHOD:PUBLISH
X-PUBLISHED-TTL:P3D
REFRESH-INTERVAL:P3D
CALSCALE:GREGORIAN
BEGIN:VEVENT
DTSTART:20131029T210000Z
DTEND:20131029T230000Z
X-MICROSOFT-CDO-ALLDAYEVENT:FALSE
SUMMARY:Business after Hours - Strickland\, Chesnutt & Lindsay
DESCRIPTION:Business after Hours\n\nStrickland & Lindsey
X-ALT-DESC;FMTTYPE=text/html:Business after Hours<br />\nStrickland &amp\; Lindsey
LOCATION:
UID:e.363.5146
SEQUENCE:3
DTSTAMP:20260422T161452Z
URL:https://barrowcm.365dtm.com/events/details/business-after-hours-strickland-chesnutt-lindsay-10-29-2013-5146
END:VEVENT

END:VCALENDAR
