BEGIN:VCALENDAR
VERSION:2.0
PRODID:-//ChamberMaster//Event Calendar 2.0//EN
METHOD:PUBLISH
X-PUBLISHED-TTL:P3D
REFRESH-INTERVAL:P3D
CALSCALE:GREGORIAN
BEGIN:VEVENT
DTSTART:20121030T210000Z
DTEND:20121030T230000Z
X-MICROSOFT-CDO-ALLDAYEVENT:FALSE
SUMMARY:Business after Hours - Strickland\, Chesnutt & Lindsay
DESCRIPTION:Business after Hours\n\n	Strickland\, Chesnutt & Lindsay
X-ALT-DESC;FMTTYPE=text/html:<p>\n	Business after Hours</p>\n<p>\n	Strickland\, Chesnutt &amp\; Lindsay</p>\n
LOCATION:76 West Candler Street Winder\, Ga
UID:e.363.4570
SEQUENCE:3
DTSTAMP:20260423T115825Z
URL:https://barrowcm.365dtm.com/events/details/business-after-hours-strickland-chesnutt-lindsay-10-30-2012-4570
END:VEVENT

END:VCALENDAR
