BEGIN:VCALENDAR
VERSION:2.0
PRODID:-//ChamberMaster//Event Calendar 2.0//EN
METHOD:PUBLISH
X-PUBLISHED-TTL:P3D
REFRESH-INTERVAL:P3D
CALSCALE:GREGORIAN
BEGIN:VEVENT
DTSTART:20111025T210000Z
DTEND:20111025T230000Z
X-MICROSOFT-CDO-ALLDAYEVENT:FALSE
SUMMARY:Business after Hours - Strickland\,Chestnutt\, & Lindsay
DESCRIPTION:Business after Hours\n\nStrickland\, Chestnuut & Lindsay
X-ALT-DESC;FMTTYPE=text/html:Business after Hours<br />\nStrickland\, Chestnuut &amp\; Lindsay
LOCATION:76 Candler Stree\, Winder\, Ga.
UID:e.363.4074
SEQUENCE:3
DTSTAMP:20260424T040528Z
URL:https://barrowcm.365dtm.com/events/details/business-after-hours-strickland-chestnutt-lindsay-10-25-2011-4074
END:VEVENT

END:VCALENDAR
