BEGIN:VCALENDAR
VERSION:2.0
PRODID:-//ChamberMaster//Event Calendar 2.0//EN
METHOD:PUBLISH
X-PUBLISHED-TTL:P3D
REFRESH-INTERVAL:P3D
CALSCALE:GREGORIAN
BEGIN:VEVENT
DTSTART:20151022T210000Z
DTEND:20151022T230000Z
X-MICROSOFT-CDO-ALLDAYEVENT:FALSE
SUMMARY:Business after Hours - Strickland & Lindsey
DESCRIPTION:Business after Hours\n\nStrickland and Lindsey
X-ALT-DESC;FMTTYPE=text/html:Business after Hours<br />\nStrickland and Lindsey
LOCATION:
UID:e.363.5810
SEQUENCE:3
DTSTAMP:20260420T233032Z
URL:https://barrowcm.365dtm.com/events/details/business-after-hours-strickland-lindsey-10-22-2015-5810
END:VEVENT

END:VCALENDAR
