BEGIN:VCALENDAR
VERSION:2.0
PRODID:-//ChamberMaster//Event Calendar 2.0//EN
METHOD:PUBLISH
X-PUBLISHED-TTL:P3D
REFRESH-INTERVAL:P3D
CALSCALE:GREGORIAN
BEGIN:VEVENT
DTSTART:20140611T123000Z
DTEND:20140611T170000Z
X-MICROSOFT-CDO-ALLDAYEVENT:FALSE
SUMMARY:Business & Employer Summit
DESCRIPTION:North and Central Georgia Business & Employer Summit\n\nThis Summit is a half-day crash course for forward thinking HR and businesses professionals who are looking for practical guidance and real world tips for handling the toughest management and compliance challenges.  It is designed to meet the needs of managers\, human resources professionals\, business owners and supervisors who want to operate effectively within the legal climate that is affecting their workplace in 2014.  Our expert speakers will impart information that will foster a new confidence and updated skills that you can implement immediately upon returning to your workplace.
X-ALT-DESC;FMTTYPE=text/html:North and Central Georgia Business &amp\; Employer Summit<br />\nThis Summit is a half-day crash course for forward thinking HR and businesses professionals who are looking for practical guidance and real world tips for handling the toughest management and compliance challenges.&nbsp\; It is designed to meet the needs of managers\, human resources professionals\, business owners and supervisors who want to operate effectively within the legal climate that is affecting their workplace in 2014.&nbsp\; Our expert speakers will impart information that will foster a new confidence and updated skills that you can implement immediately upon returning to your workplace.
LOCATION:Barrow County Park and Rec. Department 175 Second Street Winder\, GA 30680
UID:e.363.5426
SEQUENCE:3
DTSTAMP:20260422T002746Z
URL:https://barrowcm.365dtm.com/events/details/business-employer-summit-06-11-2014-5426
END:VEVENT

END:VCALENDAR
