BEGIN:VCALENDAR
VERSION:2.0
PRODID:-//ChamberMaster//Event Calendar 2.0//EN
METHOD:PUBLISH
X-PUBLISHED-TTL:P3D
REFRESH-INTERVAL:P3D
CALSCALE:GREGORIAN
BEGIN:VEVENT
DTSTART:20100811T153000Z
DTEND:20100811T163000Z
X-MICROSOFT-CDO-ALLDAYEVENT:FALSE
SUMMARY:Business Woman of the Year Committee Meeting
DESCRIPTION:Woman in Business\n\nCommittee for the Business Women of the Year
X-ALT-DESC;FMTTYPE=text/html:Woman in Business\n<br>Committee for the Business Women of the Year
LOCATION:The Chamber Office
UID:e.363.3575
SEQUENCE:3
DTSTAMP:20260425T001849Z
URL:https://barrowcm.365dtm.com/events/details/business-woman-of-the-year-committee-meeting-08-11-2010-3575
END:VEVENT

END:VCALENDAR
